BEGIN:VCALENDAR
VERSION:2.0
PRODID:-//American Hiking Society - ECPv6.15.17//NONSGML v1.0//EN
CALSCALE:GREGORIAN
METHOD:PUBLISH
X-WR-CALNAME:American Hiking Society
X-ORIGINAL-URL:https://americanhiking.org
X-WR-CALDESC:Events for American Hiking Society
REFRESH-INTERVAL;VALUE=DURATION:PT1H
X-Robots-Tag:noindex
X-PUBLISHED-TTL:PT1H
BEGIN:VTIMEZONE
TZID:America/New_York
BEGIN:DAYLIGHT
TZOFFSETFROM:-0500
TZOFFSETTO:-0400
TZNAME:EDT
DTSTART:20250309T070000
END:DAYLIGHT
BEGIN:STANDARD
TZOFFSETFROM:-0400
TZOFFSETTO:-0500
TZNAME:EST
DTSTART:20251102T060000
END:STANDARD
BEGIN:DAYLIGHT
TZOFFSETFROM:-0500
TZOFFSETTO:-0400
TZNAME:EDT
DTSTART:20260308T070000
END:DAYLIGHT
BEGIN:STANDARD
TZOFFSETFROM:-0400
TZOFFSETTO:-0500
TZNAME:EST
DTSTART:20261101T060000
END:STANDARD
BEGIN:DAYLIGHT
TZOFFSETFROM:-0500
TZOFFSETTO:-0400
TZNAME:EDT
DTSTART:20270314T070000
END:DAYLIGHT
BEGIN:STANDARD
TZOFFSETFROM:-0400
TZOFFSETTO:-0500
TZNAME:EST
DTSTART:20271107T060000
END:STANDARD
END:VTIMEZONE
BEGIN:VEVENT
DTSTART;VALUE=DATE:20260905
DTEND;VALUE=DATE:20260912
DTSTAMP:20260420T181337
CREATED:20251214T172808Z
LAST-MODIFIED:20260123T222024Z
UID:10000664-1788566400-1789171199@americanhiking.org
SUMMARY:Trinity Alps Wilderness: High-Altitude Backpacking Trek (Free Fjällräven Backpack Included!)
DESCRIPTION:***Special Promotion*** All trip participants will receive a Fjällräven Kånken R backpack (not suitable for overnight backpacking) (valued at $100) generously donated by our good friends at Fjällräven. Made from recycled materials and ready for adventure! \nJoin American Hiking and Ascend Wilderness Experience for a guided stewardship backpacking trip in the Trinity Alps Wilderness! \nA true backcountry experience but all communal gear in terms of bathroom\, cooking\, and tools are provided by the hosts. Hike 3.5 miles in to base camp at Lilypad Lake surrounded by granite\, forests\, and water where you’ll spend the week working on the surrounding forested and rocky Poison Canyon Trail System at 4\,500-7\,000 ft. elevation. \nThe Trinity Alps are a rural area with ample lakes\, reservoirs and Wild and Scenic Rivers\, such as the Trinity and Salmon Rivers. You’ll experience over a million acres of Wilderness Areas in one of the most conifer diverse areas in the world. The Bigfoot Trail (National Recreation Trail status pending) goes right through the heart of our land that is also incredibly rich in indigenous history. \nThere is no experience needed to join a Volunteer Vacation! Your expert hosts will provide detailed instruction\, tool demonstrations\, and project oversight throughout the week. All you need is a willing attitude and to be in good physical condition to participate in moderate physical activity for approximately 6-8 hours a day with plenty of breaks\, at your own pace. Find out more about what it’s like to join a Volunteer Vacation and other frequently asked questions here. \nAvg. Temperature: \nTypical weather for Weaverville\, CA during this season has highs of about 85–92°F and lows of 60–65°F. This trip will occur between 4\,000-7\,000 ft. with cold average temperatures at night that can be 19-25 degrees below the average above. \nLand Acknowledgement:  \nAHS acknowledges with gratitude that this project takes place on the traditional lands of the Northern Wintu\, Nor Rel Muk Wintu\, Tsnungwe\, Nom Sus Wintu\, Cayuse\, Umatilla and Walla Walla people past and present. We honor the land itself\, the Indigenous communities who have stewarded these islands and mountain landscapes for countless generations\, and those who continue this stewardship today. This acknowledgement is one step in our ongoing commitment to uplift Indigenous voices. We invite the American Hiking Society community to learn about\, support\, and stand in solidarity with the Indigenous peoples whose lands we live\, work\, and recreate on.
URL:https://americanhiking.org/volunteer-vacation-trip/trinity-alps-wilderness-high-altitude-backpacking-trek/
LOCATION:420 Main St Weaverville Ca 96093\, 420 Main St.\, Weaverville\, 96093\, United States
ATTACH;FMTTYPE=image/jpeg:https://americanhiking.org/wp-content/uploads/2025/12/image1.jpeg
END:VEVENT
END:VCALENDAR