BEGIN:VCALENDAR
VERSION:2.0
PRODID:-//American Hiking Society - ECPv6.15.17//NONSGML v1.0//EN
CALSCALE:GREGORIAN
METHOD:PUBLISH
X-ORIGINAL-URL:https://americanhiking.org
X-WR-CALDESC:Events for American Hiking Society
REFRESH-INTERVAL;VALUE=DURATION:PT1H
X-Robots-Tag:noindex
X-PUBLISHED-TTL:PT1H
BEGIN:VTIMEZONE
TZID:America/New_York
BEGIN:DAYLIGHT
TZOFFSETFROM:-0500
TZOFFSETTO:-0400
TZNAME:EDT
DTSTART:20190310T070000
END:DAYLIGHT
BEGIN:STANDARD
TZOFFSETFROM:-0400
TZOFFSETTO:-0500
TZNAME:EST
DTSTART:20191103T060000
END:STANDARD
BEGIN:DAYLIGHT
TZOFFSETFROM:-0500
TZOFFSETTO:-0400
TZNAME:EDT
DTSTART:20200308T070000
END:DAYLIGHT
BEGIN:STANDARD
TZOFFSETFROM:-0400
TZOFFSETTO:-0500
TZNAME:EST
DTSTART:20201101T060000
END:STANDARD
BEGIN:DAYLIGHT
TZOFFSETFROM:-0500
TZOFFSETTO:-0400
TZNAME:EDT
DTSTART:20210314T070000
END:DAYLIGHT
BEGIN:STANDARD
TZOFFSETFROM:-0400
TZOFFSETTO:-0500
TZNAME:EST
DTSTART:20211107T060000
END:STANDARD
BEGIN:DAYLIGHT
TZOFFSETFROM:-0500
TZOFFSETTO:-0400
TZNAME:EDT
DTSTART:20220313T070000
END:DAYLIGHT
BEGIN:STANDARD
TZOFFSETFROM:-0400
TZOFFSETTO:-0500
TZNAME:EST
DTSTART:20221106T060000
END:STANDARD
END:VTIMEZONE
BEGIN:VEVENT
DTSTART;VALUE=DATE:20210919
DTEND;VALUE=DATE:20210926
DTSTAMP:20260423T145056
CREATED:20210317T171658Z
LAST-MODIFIED:20210708T151202Z
UID:10000374-1632009600-1632614399@americanhiking.org
SUMMARY:Hocking Hill State Park - Volunteer Vacations 2021
DESCRIPTION:Join us during the peak of fall foliage in Ohio’s Hocking Hills to relocate the Buckeye Trail off of roads and into Hocking State Forest\, Sheick\, and Little Rocky Hollow State Nature Preserves! Our project consists of new trail construction\, re-benching the trail tread\, heavy trail maintenance\, and vegetation management. Come and leave your mark on one of the most beautiful places our state has to offer! \nCURRENT COVID TRAVEL RESTRICTIONS/REQUIREMENTS FOR STATE (Link)
URL:https://americanhiking.org/volunteer-vacation-trip/hocking-hill-state-park-volunteer-vacations-2021/
LOCATION:Hocking Hill State Park\, 13200 Little Cola Road\, Rockbridge\, OH\, 43149
ATTACH;FMTTYPE=image/jpeg:https://americanhiking.org/wp-content/uploads/2021/03/hocking-hill-state-park.jpg
END:VEVENT
BEGIN:VEVENT
DTSTART;VALUE=DATE:20201013
DTEND;VALUE=DATE:20201019
DTSTAMP:20260423T145056
CREATED:20191211T185724Z
LAST-MODIFIED:20200727T203938Z
UID:10000418-1602547200-1603065599@americanhiking.org
SUMMARY:Buckeye Trail\, Hocking State Forest
DESCRIPTION:TRIP CANCELLED DUE TO COVID-19: \n  \nJoin us during the peak of fall foliage in Ohio’s Hocking Hills to relocate the BT off of roads and into Hocking State Forest\, Shieck and Little Rocky Hollow State Nature Preserves! Our project consists of new trail construction\, re-benching the trail tread\, heavy trail maintenance\, and vegetation management. Come and leave your mark on one of the most beautiful places our state has to offer!
URL:https://americanhiking.org/volunteer-vacation-trip/buckeye-trail-hocking-state-forest/
LOCATION:Buckeye Trail\, Hocking State Forest\, 13200 Little Cola Rd\, Rockbridge\, Ohio\, 43149\, United States
CATEGORIES:Volunteer Vacations Trips
ATTACH;FMTTYPE=image/jpeg:https://americanhiking.org/wp-content/uploads/2019/12/hocking1.jpg
END:VEVENT
BEGIN:VEVENT
DTSTART;VALUE=DATE:20200414
DTEND;VALUE=DATE:20200420
DTSTAMP:20260423T145056
CREATED:20191211T185725Z
LAST-MODIFIED:20200416T205937Z
UID:10000420-1586822400-1587340799@americanhiking.org
SUMMARY:Buckeye Trail\, Wayne National Forest
DESCRIPTION:CANCELLED DUE TO COVID-19:\nVolunteers will join the Buckeye Trail Crew as they head into Wayne National Forest to relocate the BT and North Country National Scenic Trail connecting the historic Village of Shawnee through rugged terrain to the Upstream Rock Run reclamation project. Join us to expand and improve the trail’s offerings to residents and visitors to the Buckeye Trail Town through the scenic hills of Appalachian Ohio’s Little Cities of Black Diamonds region. We will be digging the trail tread with hand tools\, including pulaskis\, mcleods\, mattocks\, etc. Bring a day pack and ensure you can have it stocked before we enter the trail\, lunch will be on the trail\, dress for the weather. The chuckwagon will provide food and bags to bring such onto the trail.
URL:https://americanhiking.org/volunteer-vacation-trip/buckeye-trail-wayne-national-forest/
LOCATION:Buckeye Trail\, Wayne National Forest\, 127 Main Street\, Shawnee\, Ohio\, 43782\, United States
CATEGORIES:Volunteer Vacations Trips
ATTACH;FMTTYPE=image/jpeg:https://americanhiking.org/wp-content/uploads/2019/12/wayne3.jpg
END:VEVENT
END:VCALENDAR