BEGIN:VCALENDAR
VERSION:2.0
PRODID:-//American Hiking Society - ECPv6.15.17//NONSGML v1.0//EN
CALSCALE:GREGORIAN
METHOD:PUBLISH
X-ORIGINAL-URL:https://americanhiking.org
X-WR-CALDESC:Events for American Hiking Society
REFRESH-INTERVAL;VALUE=DURATION:PT1H
X-Robots-Tag:noindex
X-PUBLISHED-TTL:PT1H
BEGIN:VTIMEZONE
TZID:America/New_York
BEGIN:DAYLIGHT
TZOFFSETFROM:-0500
TZOFFSETTO:-0400
TZNAME:EDT
DTSTART:20170312T070000
END:DAYLIGHT
BEGIN:STANDARD
TZOFFSETFROM:-0400
TZOFFSETTO:-0500
TZNAME:EST
DTSTART:20171105T060000
END:STANDARD
BEGIN:DAYLIGHT
TZOFFSETFROM:-0500
TZOFFSETTO:-0400
TZNAME:EDT
DTSTART:20180311T070000
END:DAYLIGHT
BEGIN:STANDARD
TZOFFSETFROM:-0400
TZOFFSETTO:-0500
TZNAME:EST
DTSTART:20181104T060000
END:STANDARD
BEGIN:DAYLIGHT
TZOFFSETFROM:-0500
TZOFFSETTO:-0400
TZNAME:EDT
DTSTART:20190310T070000
END:DAYLIGHT
BEGIN:STANDARD
TZOFFSETFROM:-0400
TZOFFSETTO:-0500
TZNAME:EST
DTSTART:20191103T060000
END:STANDARD
BEGIN:DAYLIGHT
TZOFFSETFROM:-0500
TZOFFSETTO:-0400
TZNAME:EDT
DTSTART:20200308T070000
END:DAYLIGHT
BEGIN:STANDARD
TZOFFSETFROM:-0400
TZOFFSETTO:-0500
TZNAME:EST
DTSTART:20201101T060000
END:STANDARD
BEGIN:DAYLIGHT
TZOFFSETFROM:-0500
TZOFFSETTO:-0400
TZNAME:EDT
DTSTART:20210314T070000
END:DAYLIGHT
BEGIN:STANDARD
TZOFFSETFROM:-0400
TZOFFSETTO:-0500
TZNAME:EST
DTSTART:20211107T060000
END:STANDARD
BEGIN:DAYLIGHT
TZOFFSETFROM:-0500
TZOFFSETTO:-0400
TZNAME:EDT
DTSTART:20220313T070000
END:DAYLIGHT
BEGIN:STANDARD
TZOFFSETFROM:-0400
TZOFFSETTO:-0500
TZNAME:EST
DTSTART:20221106T060000
END:STANDARD
BEGIN:DAYLIGHT
TZOFFSETFROM:-0500
TZOFFSETTO:-0400
TZNAME:EDT
DTSTART:20230312T070000
END:DAYLIGHT
BEGIN:STANDARD
TZOFFSETFROM:-0400
TZOFFSETTO:-0500
TZNAME:EST
DTSTART:20231105T060000
END:STANDARD
END:VTIMEZONE
BEGIN:VEVENT
DTSTART;VALUE=DATE:20220731
DTEND;VALUE=DATE:20220807
DTSTAMP:20260422T033817
CREATED:20211201T221737Z
LAST-MODIFIED:20220104T184633Z
UID:10000395-1659225600-1659830399@americanhiking.org
SUMMARY:Groton State Forest\, Vermont - Volunteer Vacations 2022
DESCRIPTION:Help build the Cross Vermont Trail – a new four season multi-use path spanning the width of Vermont! We are “connecting communities\, their schools\, and the natural areas in between.” The crew will build small bridges\, drainage ditches\, stone structures\, and surface parts of the trail with gravel to make it universally accessible. Join the Cross Vermont Trail Association and work to create the foundation of a sustainable trail that is connecting communities across the entire state. \nAHS acknowledges with gratitude that this project takes place on the traditional lands of the Wabanaki (Dawnland Confederacy) and Abenaki / Abénaquis peoples past and present. We honor the land itself\, the Indigenous communities who have stewarded this land for generations\, and those who continue to steward these lands today. AHS invites all volunteers to join us in our commitment to support and amplify the work of Indigenous communities as they work to dismantle the systems of oppression that these communities continue to face today.
URL:https://americanhiking.org/volunteer-vacation-trip/groton-state-forest-volunteer-vacations-2022/
LOCATION:Big Deer State Park\, Big Deer State Park\, 1467 Boulder Beach Rd\, Groton\, VT\, 05046\, United States
ATTACH;FMTTYPE=image/jpeg:https://americanhiking.org/wp-content/uploads/2021/12/20210814-volcrew-e.jpg
END:VEVENT
BEGIN:VEVENT
DTSTART;VALUE=DATE:20210801
DTEND;VALUE=DATE:20210808
DTSTAMP:20260422T033817
CREATED:20210317T171658Z
LAST-MODIFIED:20210518T140409Z
UID:10000372-1627776000-1628380799@americanhiking.org
SUMMARY:Groton State Forest - Volunteer Vacations 2021
DESCRIPTION:Help build the Cross Vermont Trail – a four season multi-use path spanning the width of Vermont. We are connecting communities\, their schools\, and the natural areas in between. The crew will build small bridges\, drainage ditches\, stone structures\, and surface parts of the trail with gravel to make it universally accessible. Contribute to the foundation of a sustainable trail that is connecting communities across the entire state! \nCURRENT COVID TRAVEL RESTRICTIONS/REQUIREMENTS FOR STATE (Link)
URL:https://americanhiking.org/volunteer-vacation-trip/groton-state-forest-volunteer-vacations-2021/
LOCATION:Groton State Forest\, 1467 Boulder Beach Rd\, Groton\, VT\, 5046\, United States
ATTACH;FMTTYPE=image/jpeg:https://americanhiking.org/wp-content/uploads/2018/11/Groton-State-Forest.jpg
END:VEVENT
BEGIN:VEVENT
DTSTART;VALUE=DATE:20200802
DTEND;VALUE=DATE:20200809
DTSTAMP:20260422T033817
CREATED:20191211T185729Z
LAST-MODIFIED:20200619T201637Z
UID:10000433-1596326400-1596931199@americanhiking.org
SUMMARY:Groton State Forest
DESCRIPTION:TRIP CANCELLED due to COVID-19: \n  \nHelp build the Cross Vermont Trail – a new four season multi-use path spanning the width of Vermont. We are “connecting communities\, their schools\, and the natural areas in between.” The crew will build small bridges\, drainage ditches\, stone structures\, and surface parts of the trail with gravel to make it universally accessible. Contribute to the foundation of a sustainable trail that is connecting communities across the entire state!
URL:https://americanhiking.org/volunteer-vacation-trip/groton-state-forest/
LOCATION:Groton State Forest\, 1467 Boulder Beach Rd\, Groton\, VT\, 5046\, United States
CATEGORIES:Volunteer Vacations Trips
ATTACH;FMTTYPE=image/jpeg:https://americanhiking.org/wp-content/uploads/2018/11/Groton-State-Forest-5.jpg
END:VEVENT
BEGIN:VEVENT
DTSTART;VALUE=DATE:20190804
DTEND;VALUE=DATE:20190811
DTSTAMP:20260422T033817
CREATED:20181116T192229Z
LAST-MODIFIED:20190711T204156Z
UID:10000306-1564876800-1565481599@americanhiking.org
SUMMARY:Groton State Forest\, Cross Vermont Trail
DESCRIPTION:Help build the Cross Vermont Trail – a four season multi-use trail spanning the width of Vermont. We are “connecting communities\, their schools\, and the natural areas in between.” The crew will build small bridges\, drainage ditches\, stone structures\, and surface parts of the trail with gravel to make it universally accessible. Contribute to the foundation of a sustainable trail that is connecting communities across the entire state!
URL:https://americanhiking.org/volunteer-vacation-trip/groton-state-forest-cross-vermont-trail-2/
LOCATION:Groton State Forest\, Cross Vermont Trail\, 1467 Boulder Beach R\, Groton\, VT\, 05046\, United States
CATEGORIES:Volunteer Vacations Trips
ATTACH;FMTTYPE=image/jpeg:https://americanhiking.org/wp-content/uploads/2018/11/Groton-State-Forest.jpg
GEO:44.286917;-72.267753
X-APPLE-STRUCTURED-LOCATION;VALUE=URI;X-ADDRESS=Groton State Forest Cross Vermont Trail 1467 Boulder Beach R Groton VT 05046 United States;X-APPLE-RADIUS=500;X-TITLE=1467 Boulder Beach R:geo:-72.267753,44.286917
END:VEVENT
BEGIN:VEVENT
DTSTART;VALUE=DATE:20180729
DTEND;VALUE=DATE:20180805
DTSTAMP:20260422T033817
CREATED:20171206T180955Z
LAST-MODIFIED:20180521T155305Z
UID:10000320-1532822400-1533427199@americanhiking.org
SUMMARY:Groton State Forest\, Cross Vermont Trail
DESCRIPTION:Help build the Cross Vermont Trail – a new four season multi-use path spanning the width of Vermont. We are “connecting communities\, their schools\, and the natural areas in between.” The crew will build small bridges\, drainage ditches\, stone structures\, and surface parts of the trail with gravel to make it universally accessible. Contribute to the foundation of a sustainable trail that is connecting communities across the entire state! \nThis trip is hosted and crew led by the Cross Vermont Trail Association.
URL:https://americanhiking.org/volunteer-vacation-trip/groton-state-forest-cross-vermont-trail/
LOCATION:Groton State Forest\, Cross Vermont Trail\, 1467 Boulder Beach R\, Groton\, VT\, 05046\, United States
ATTACH;FMTTYPE=image/jpeg:https://americanhiking.org/wp-content/uploads/2017/12/Cross-Vermont-Trail-Vermont.jpg
GEO:44.286917;-72.267753
X-APPLE-STRUCTURED-LOCATION;VALUE=URI;X-ADDRESS=Groton State Forest Cross Vermont Trail 1467 Boulder Beach R Groton VT 05046 United States;X-APPLE-RADIUS=500;X-TITLE=1467 Boulder Beach R:geo:-72.267753,44.286917
END:VEVENT
END:VCALENDAR