BEGIN:VCALENDAR
VERSION:2.0
PRODID:-//American Hiking Society - ECPv6.15.17//NONSGML v1.0//EN
CALSCALE:GREGORIAN
METHOD:PUBLISH
X-ORIGINAL-URL:https://americanhiking.org
X-WR-CALDESC:Events for American Hiking Society
REFRESH-INTERVAL;VALUE=DURATION:PT1H
X-Robots-Tag:noindex
X-PUBLISHED-TTL:PT1H
BEGIN:VTIMEZONE
TZID:America/New_York
BEGIN:DAYLIGHT
TZOFFSETFROM:-0500
TZOFFSETTO:-0400
TZNAME:EDT
DTSTART:20250309T070000
END:DAYLIGHT
BEGIN:STANDARD
TZOFFSETFROM:-0400
TZOFFSETTO:-0500
TZNAME:EST
DTSTART:20251102T060000
END:STANDARD
BEGIN:DAYLIGHT
TZOFFSETFROM:-0500
TZOFFSETTO:-0400
TZNAME:EDT
DTSTART:20260308T070000
END:DAYLIGHT
BEGIN:STANDARD
TZOFFSETFROM:-0400
TZOFFSETTO:-0500
TZNAME:EST
DTSTART:20261101T060000
END:STANDARD
BEGIN:DAYLIGHT
TZOFFSETFROM:-0500
TZOFFSETTO:-0400
TZNAME:EDT
DTSTART:20270314T070000
END:DAYLIGHT
BEGIN:STANDARD
TZOFFSETFROM:-0400
TZOFFSETTO:-0500
TZNAME:EST
DTSTART:20271107T060000
END:STANDARD
END:VTIMEZONE
BEGIN:VEVENT
DTSTART;VALUE=DATE:20261011
DTEND;VALUE=DATE:20261018
DTSTAMP:20260420T193404
CREATED:20251214T180848Z
LAST-MODIFIED:20260413T171728Z
UID:10000676-1791676800-1792281599@americanhiking.org
SUMMARY:Drop a Line in the Water After a Day of Trail Maintenance on Wisconsin Lake
DESCRIPTION:Wisconsin Lake Life! \nLake Eau Galle is a 360 acre lake with a public beach and boat landings surrounded by state natural areas. The Highland Ridge campground\, complete with hot showers\, overlooks the sparkling Eau Galle Reservoir. The area boasts 648 acres of scenery with numerous opportunities for recreation\, including fishing\, canoeing and plenty of hiking. Horseback riders enjoy the trails around the lush region! \nVolunteers will complete trail maintenance or trail rerouting for the Lousy Creek Trail (don’t let the name fool you!) at the Eau Galle Recreation Area. Improvements and removal of invasive vegetation from this trail will provide a safer and better experience for both hikers and horse riders. \nThere is no experience needed to join a Volunteer Vacation! Your expert hosts will provide detailed instruction\, tool demonstrations\, and project oversight throughout the week. All you need is a willing attitude and to be in good physical condition to participate in moderate physical activity for approximately 6-8 hours a day with plenty of breaks\, at your own pace. Find out more about what it’s like to join a Volunteer Vacation and other frequently asked questions here. \nAvg. Temperature:  \nTypical weather for this area during this season has highs of around 55–60°F and lows of 35–40°F. Mid-October in western Wisconsin is cool with crisp nights and occasional rain showers. \nSample Schedule:  \nDay 1: Arrival \nTypically meet in the afternoon for check in\, introductions\, orientation\, and camp setup. (Time/place TBD) \nDay 2: Work Day \nEnjoy a hearty breakfast\, pack lunches\, and be on the trail between 8 AM and 9 AM \nLunch and plenty of other breaks will be included. \nWrap up the work day in the late afternoon and head back to camp and enjoy a few hours of daylight for free time. \nReconvene at a chosen time for dinner. \nAfter dinner has been cleaned up\, evenings offer plenty of  time to relax\, sit around the campfire and get to know your fellow crew members\, or enjoy more free time. \nDay 3: Work Day \nDay 4: Rest Day (Specific Day on Trip Will Be Confirmed By Host) \nYour choice! Explore the area\, take a recreational hike\,  tour local attractions\, or hang out at camp. Group excursions can be planned or set-out on your own. \nDay 5: Work Day \nDay 6: Work Day \nDay 7: Departure \nPack up and clean up\, celebrate your accomplishments\, wish each other a fond farewell\, and depart. Please note: This schedule is subject to change due to weather or other circumstances. Any updates will be communicated to the group. \nLand Acknowledgement:  \nAHS acknowledges with gratitude that this project takes place on the traditional lands of the Očhéthi Šakówiŋ people past and present. We honor the land itself\, the Indigenous communities who have stewarded these islands and mountain landscapes for countless generations\, and those who continue this stewardship today. This acknowledgement is one step in our ongoing commitment to uplift Indigenous voices. We invite the American Hiking Society community to learn about\, support\, and stand in solidarity with the Indigenous peoples whose lands we live\, work\, and recreate on.
URL:https://americanhiking.org/volunteer-vacation-trip/drop-a-line-in-the-water-after-a-day-of-trail-maintenance-on-wisconsin-lake/
LOCATION:Eau Galle Recreation Area\, N2100 Dugan Road\, Spring Valley\, WI\, 54767\, United States
ATTACH;FMTTYPE=image/jpeg:https://americanhiking.org/wp-content/uploads/2025/12/beach-and-lake.jpg
END:VEVENT
BEGIN:VEVENT
DTSTART;VALUE=DATE:20261101
DTEND;VALUE=DATE:20261108
DTSTAMP:20260420T193404
CREATED:20251214T181501Z
LAST-MODIFIED:20251219T151132Z
UID:10000678-1793491200-1794095999@americanhiking.org
SUMMARY:Virginia Fall Foliage along the Roanoke River
DESCRIPTION:Experience peak fall foliage surrounded by a 50\,000-acre lake extending 39 miles up the Roanoke River. Visitors enjoy fishing\, camping\, swimming\, boating or just relaxing and enjoying the scenic beauty. There are 30 recreation areas around Kerr Reservoir: campsites\, swim beaches\, picnic areas\, hiking\, nature trails\, marinas all available for public use.This area is truly known for its natural beauty and recreational/nature opportunities. \nThe project will focus on the Liberty Hill Nature Trail an interpretive hiking trail where visitors can learn more about the natural environment\, history\, and the U.S. Army Corps of Engineers. Volunteers will support three main maintenance projects including: a short section of trail rerouted due to riverbank erosion; a 3 ft wide by 10 ft long footbridge re-build; and a short section of trail that needs maintenance due to rainwater erosion (i.e. adding ditches\, sinuosity to trail). This trail work will include hiking approximately 0.75 mile\, one-way to the three work-site locations along the trail. This trail is entirely shaded. Work will include bending\, lifting\, shoveling\, use of hand tools\, etc. There will be some elevation change along the trail. It is downhill going towards the maintenance projects\, mostly flat the remainder of the trail\, and then a short section of uphill going back up to the parking lot (this is a loop trail). There is a vault toilet at the trailhead parking lot. All levels of trail work and expertise are welcome\, and we will work with the trail crew leader and volunteers to assign tasks that volunteers are comfortable executing. \nThere is no experience needed to join a Volunteer Vacation! Your expert hosts will provide detailed instruction\, tool demonstrations\, and project oversight throughout the week. All you need is a willing attitude and to be in good physical condition to participate in moderate physical activity for approximately 6-8 hours a day with plenty of breaks\, at your own pace. Find out more about what it’s like to join a Volunteer Vacation and other frequently asked questions here. \nAvg. Temperature: \nTypical weather for this area during this season has highs of roughly 60–65°F and lows of 40–45°F. Early November in south-central Virginia is generally cool and dry to partly cloudy\, with only occasional light rain. \nSample Schedule:  \nDay 1: Arrival \nTypically meet in the afternoon for check in\, introductions\, orientation\, and camp setup. (Time/place TBD) \nDay 2: Work Day \nEnjoy a hearty breakfast\, pack lunches\, and be on the trail between 8 AM and 9 AM \nLunch and plenty of other breaks will be included. \nWrap up the work day in the late afternoon and head back to camp and enjoy a few hours of daylight for free time. \nReconvene at a chosen time for dinner. \nAfter dinner has been cleaned up\, evenings offer plenty of  time to relax\, sit around the campfire and get to know your fellow crew members\, or enjoy more free time. \nDay 3: Work Day \nDay 4: Rest Day (Specific Day on Trip Will Be Confirmed By Host) \nYour choice! Explore the area\, take a recreational hike\,  tour local attractions\, or hang out at camp. Group excursions can be planned or set-out on your own. \nDay 5: Work Day \nDay 6: Work Day \nDay 7: Departure \nPack up and clean up\, celebrate your accomplishments\, wish each other a fond farewell\, and depart. Please note: This schedule is subject to change due to weather or other circumstances. Any updates will be communicated to the group. \nLand Acknowledgment: \nAHS acknowledges with gratitude that this project takes place on the traditional lands of the Occaneechi\, Saponi\, Lumbee\, people past and present. We honor the land itself\, the Indigenous communities who have stewarded these islands and mountain landscapes for countless generations\, and those who continue this stewardship today. This acknowledgement is one step in our ongoing commitment to uplift Indigenous voices. We invite the American Hiking Society community to learn about\, support\, and stand in solidarity with the Indigenous peoples whose lands we live\, work\, and recreate on.
URL:https://americanhiking.org/volunteer-vacation-trip/virginia-fall-foliage-along-the-roanoke-river/
LOCATION:Liberty Hill Nature Trail\, 64 North Bend Drive\, Boydton\, VA\, 23917\, United States
ATTACH;FMTTYPE=image/jpeg:https://americanhiking.org/wp-content/uploads/2025/12/sunset-at-north-bend.jpg
END:VEVENT
END:VCALENDAR