BEGIN:VCALENDAR
VERSION:2.0
PRODID:-//American Hiking Society - ECPv6.15.17//NONSGML v1.0//EN
CALSCALE:GREGORIAN
METHOD:PUBLISH
X-ORIGINAL-URL:https://americanhiking.org
X-WR-CALDESC:Events for American Hiking Society
REFRESH-INTERVAL;VALUE=DURATION:PT1H
X-Robots-Tag:noindex
X-PUBLISHED-TTL:PT1H
BEGIN:VTIMEZONE
TZID:America/New_York
BEGIN:DAYLIGHT
TZOFFSETFROM:-0500
TZOFFSETTO:-0400
TZNAME:EDT
DTSTART:20190310T070000
END:DAYLIGHT
BEGIN:STANDARD
TZOFFSETFROM:-0400
TZOFFSETTO:-0500
TZNAME:EST
DTSTART:20191103T060000
END:STANDARD
BEGIN:DAYLIGHT
TZOFFSETFROM:-0500
TZOFFSETTO:-0400
TZNAME:EDT
DTSTART:20200308T070000
END:DAYLIGHT
BEGIN:STANDARD
TZOFFSETFROM:-0400
TZOFFSETTO:-0500
TZNAME:EST
DTSTART:20201101T060000
END:STANDARD
BEGIN:DAYLIGHT
TZOFFSETFROM:-0500
TZOFFSETTO:-0400
TZNAME:EDT
DTSTART:20210314T070000
END:DAYLIGHT
BEGIN:STANDARD
TZOFFSETFROM:-0400
TZOFFSETTO:-0500
TZNAME:EST
DTSTART:20211107T060000
END:STANDARD
END:VTIMEZONE
BEGIN:VEVENT
DTSTART;VALUE=DATE:20201025
DTEND;VALUE=DATE:20201101
DTSTAMP:20260422T054038
CREATED:20191211T185719Z
LAST-MODIFIED:20200727T203932Z
UID:10000337-1603584000-1604188799@americanhiking.org
SUMMARY:Adirondack Park/Champlain Valley
DESCRIPTION:TRIP CANCELLED DUE TO COVID-19: \n  \nVolunteers will help create new trails and maintain existing trails in the Champlain Area Trails (CATS) network of trails. Tasks may include building simple infrastructure like water bars\, small bridges\, etc.\, as well as clearing brush and small trees. CATS will provide the tools for the project.
URL:https://americanhiking.org/volunteer-vacation-trip/adirondack-park-champlain-valley-2/
LOCATION:Adirondack Park/Champlain Valley\, 126 Camp Dudley Road\, Westport\, NY\, 12993\, United States
CATEGORIES:Volunteer Vacations Trips
ATTACH;FMTTYPE=image/jpeg:https://americanhiking.org/wp-content/uploads/2018/11/Adirondack-Park.jpg
END:VEVENT
BEGIN:VEVENT
DTSTART;VALUE=DATE:20200419
DTEND;VALUE=DATE:20200426
DTSTAMP:20260422T054038
CREATED:20191211T185718Z
LAST-MODIFIED:20200416T205542Z
UID:10000335-1587254400-1587859199@americanhiking.org
SUMMARY:Adirondack Park/Champlain Valley
DESCRIPTION:CANCELLED DUE TO COVID-19:\nVolunteers will help create new trails and maintain existing trails in the Champlain Area Trails (CATS) network of trails. Tasks may include building simple infrastructure like water bars\, small bridges\, etc.\, as well as clearing brush and small trees. CATS will provide the tools for the project.
URL:https://americanhiking.org/volunteer-vacation-trip/adirondack-park-champlain-valley/
LOCATION:Adirondack Park/Champlain Valley\, 126 Camp Dudley Road\, Westport\, NY\, 12993\, United States
CATEGORIES:Volunteer Vacations Trips
ATTACH;FMTTYPE=image/jpeg:https://americanhiking.org/wp-content/uploads/2018/11/Adirondack-Park.jpg
END:VEVENT
END:VCALENDAR