BEGIN:VCALENDAR
VERSION:2.0
PRODID:-//American Hiking Society - ECPv6.15.17//NONSGML v1.0//EN
CALSCALE:GREGORIAN
METHOD:PUBLISH
X-ORIGINAL-URL:https://americanhiking.org
X-WR-CALDESC:Events for American Hiking Society
REFRESH-INTERVAL;VALUE=DURATION:PT1H
X-Robots-Tag:noindex
X-PUBLISHED-TTL:PT1H
BEGIN:VTIMEZONE
TZID:America/New_York
BEGIN:DAYLIGHT
TZOFFSETFROM:-0500
TZOFFSETTO:-0400
TZNAME:EDT
DTSTART:20210314T070000
END:DAYLIGHT
BEGIN:STANDARD
TZOFFSETFROM:-0400
TZOFFSETTO:-0500
TZNAME:EST
DTSTART:20211107T060000
END:STANDARD
BEGIN:DAYLIGHT
TZOFFSETFROM:-0500
TZOFFSETTO:-0400
TZNAME:EDT
DTSTART:20220313T070000
END:DAYLIGHT
BEGIN:STANDARD
TZOFFSETFROM:-0400
TZOFFSETTO:-0500
TZNAME:EST
DTSTART:20221106T060000
END:STANDARD
BEGIN:DAYLIGHT
TZOFFSETFROM:-0500
TZOFFSETTO:-0400
TZNAME:EDT
DTSTART:20230312T070000
END:DAYLIGHT
BEGIN:STANDARD
TZOFFSETFROM:-0400
TZOFFSETTO:-0500
TZNAME:EST
DTSTART:20231105T060000
END:STANDARD
BEGIN:DAYLIGHT
TZOFFSETFROM:-0500
TZOFFSETTO:-0400
TZNAME:EDT
DTSTART:20240310T070000
END:DAYLIGHT
BEGIN:STANDARD
TZOFFSETFROM:-0400
TZOFFSETTO:-0500
TZNAME:EST
DTSTART:20241103T060000
END:STANDARD
END:VTIMEZONE
BEGIN:VEVENT
DTSTART;TZID=America/New_York:20230604T140000
DTEND;TZID=America/New_York:20230610T100000
DTSTAMP:20260419T193807
CREATED:20221115T214804Z
LAST-MODIFIED:20221219T192201Z
UID:10000523-1685887200-1686391200@americanhiking.org
SUMMARY:Big South Fork National River & Recreation Area\, TN - Volunteer Vacations 2023
DESCRIPTION:Calling all bridge builders! Join us at the Big South Fork National River and Recreation Area to restore historic bridges among a peaceful area with wildlife\, wildflowers\, and starry night skies. The Big South Fork National River and Recreation Area is 125\,000 acres\, and boasts miles of scenic gorges and sandstone bluffs\, and is rich with natural and historic features and has been developed to provide visitors with a wide range of outdoor recreational activities. The Twin Arches Trail is designated as a Natural-Scientific State Natural Area. There are four bridges in the Jakes Place (Historic) landscape which were built several years ago\, and they are in need of being removed and built. Jakes’s Place is off the Twin Arches Trail but also connects to the Charit Creek Lodge (Historic). Volunteers will be replacing one of these bridges during the week of service. There are no buildings left standing at Jakes Place other than the remnants of an old fireplace. Volunteers will be driven to the trailhead but will have to hike approximately 1-2 miles to the actual work site. The terrain is steep and moderate in difficulty for hiking. \nWith the beginning of summer\, the area is abundant with wildlife\, wildflowers\, birds and lush green trees. It is an area for foot traffic only and it is truly a peaceful area to visit\, even if only for one day. In the evenings\, star gazers can look up and see a beautiful display of stars. \nThere is no experience needed to join a Volunteer Vacation! Your expert hosts will provide detailed instruction\, tool demonstrations\, and project oversight throughout the week. All you need is a willing attitude and to be in good physical condition to participate in moderate physical activity for approximately 6-8 hours a day with plenty of breaks\, at your own pace. Find out more about what it’s like to join a Volunteer Vacation and other frequently asked questions here.  \nAHS acknowledges with gratitude that this project takes place on the traditional lands of the Tsalaguwetiyi (Cherokee\, East)\, S’atsoyaha (Yuchi)\, and Shawandasse Tula (Shawanwaki/Shawnee) peoples past and present. We honor the land itself\, the Indigenous communities who have stewarded this land for generations\, their deep and sacred connection to these lands\, and those who continue to steward these lands today. We offer this land acknowledgement as the first of many steps to stand as an ally and amplify Indigenous voices. We invite the American Hiking Society community to join us through continued efforts to support Indigenous communities and learn more about the history of the lands on which we live\, work and recreate.
URL:https://americanhiking.org/volunteer-vacation-trip/big-south-fork-national-river-recreation-area-tn-volunteer-vacations-2023/
LOCATION:Big South Fork National River and Recreation Area\, 4564 Leatherwood Road\, Oneida\, TN\, 37841\, United States
ATTACH;FMTTYPE=image/jpeg:https://americanhiking.org/wp-content/uploads/2022/11/jennie-chevalier-secret-falls-on-the-trail-large.jpg
END:VEVENT
BEGIN:VEVENT
DTSTART;VALUE=DATE:20220605
DTEND;VALUE=DATE:20220612
DTSTAMP:20260419T193807
CREATED:20211201T165429Z
LAST-MODIFIED:20220104T182739Z
UID:10000497-1654387200-1654991999@americanhiking.org
SUMMARY:Big South Fork National River and Recreation Area\, Tennessee - Volunteer Vacations 2022
DESCRIPTION:Encompassing 125\,000 acres of the Cumberland Plateau\, Big South Fork National River and Recreation Area protects the free-flowing Big South Fork of the Cumberland River and its tributaries. The area boasts miles of scenic gorges and sandstone bluffs\, is rich with natural and historic features and has been developed to provide visitors with a wide range of outdoor recreational activities. There are five bridges in the Jakes Place (Historic) landscape which were built several years ago\, and they are in need of being removed and rebuilt. American Hiking Society volunteers will work on replacing one of these bridges during your week of service. There are no buildings left standing at Jakes Place other than the remnants of an old fire place. There are three streams that meet at the Jakes Place to form the beginning of Station Camp Creek. With the beginning of summer the area is abundant with wildlife\, wildflowers\, birds and lush green trees. It is an area for foot traffic only and it is truly a peaceful area to visit\, even if only for one day. \nAHS acknowledges with gratitude that this project takes place on the traditional lands of the ᏣᎳᎫᏪᏘᏱ Tsalaguwetiyi (Cherokee\, East)\, S’atsoyaha (Yuchi)\, Shawandasse Tula and (Shawanwaki/Shawnee)peoples past and present. We honor the land itself\, the Indigenous communities who have stewarded this land for generations\, and those who continue to steward these lands today. AHS invites all volunteers to join us in our commitment to support and amplify the work of Indigenous communities as they work to dismantle the systems of oppression that these communities continue to face today.
URL:https://americanhiking.org/volunteer-vacation-trip/big-south-fork-national-river-and-recreation-area-volunteer-vacations-2022/
LOCATION:Big South Fork National River and Recreation Area\, 4564 Leatherwood Road\, Oneida\, TN\, 37841\, United States
ATTACH;FMTTYPE=image/jpeg:https://americanhiking.org/wp-content/uploads/2021/12/indian-pipe-rotated.jpg
END:VEVENT
END:VCALENDAR