BEGIN:VCALENDAR
VERSION:2.0
PRODID:-//American Hiking Society - ECPv6.15.17//NONSGML v1.0//EN
CALSCALE:GREGORIAN
METHOD:PUBLISH
X-ORIGINAL-URL:https://americanhiking.org
X-WR-CALDESC:Events for American Hiking Society
REFRESH-INTERVAL;VALUE=DURATION:PT1H
X-Robots-Tag:noindex
X-PUBLISHED-TTL:PT1H
BEGIN:VTIMEZONE
TZID:America/New_York
BEGIN:DAYLIGHT
TZOFFSETFROM:-0500
TZOFFSETTO:-0400
TZNAME:EDT
DTSTART:20190310T070000
END:DAYLIGHT
BEGIN:STANDARD
TZOFFSETFROM:-0400
TZOFFSETTO:-0500
TZNAME:EST
DTSTART:20191103T060000
END:STANDARD
BEGIN:DAYLIGHT
TZOFFSETFROM:-0500
TZOFFSETTO:-0400
TZNAME:EDT
DTSTART:20200308T070000
END:DAYLIGHT
BEGIN:STANDARD
TZOFFSETFROM:-0400
TZOFFSETTO:-0500
TZNAME:EST
DTSTART:20201101T060000
END:STANDARD
BEGIN:DAYLIGHT
TZOFFSETFROM:-0500
TZOFFSETTO:-0400
TZNAME:EDT
DTSTART:20210314T070000
END:DAYLIGHT
BEGIN:STANDARD
TZOFFSETFROM:-0400
TZOFFSETTO:-0500
TZNAME:EST
DTSTART:20211107T060000
END:STANDARD
BEGIN:DAYLIGHT
TZOFFSETFROM:-0500
TZOFFSETTO:-0400
TZNAME:EDT
DTSTART:20220313T070000
END:DAYLIGHT
BEGIN:STANDARD
TZOFFSETFROM:-0400
TZOFFSETTO:-0500
TZNAME:EST
DTSTART:20221106T060000
END:STANDARD
END:VTIMEZONE
BEGIN:VEVENT
DTSTART;VALUE=DATE:20210711
DTEND;VALUE=DATE:20210718
DTSTAMP:20260420T125411
CREATED:20210317T171656Z
LAST-MODIFIED:20210507T205424Z
UID:10000365-1625961600-1626566399@americanhiking.org
SUMMARY:California Coastal National Monument - Volunteer Vacations 2021
DESCRIPTION:Volunteers will work with CA State Park trail supervisors on the Trinidad State Beach trails\, a unit of Patricks Point State Park and a highlight of the CA Coastal National Monument. Located along the Trinidad coastline in northern California where the redwoods meet the Pacific Ocean\, these trails provide public access to the beach and tidepools. Trail distances are less than one mile each way from parking\, but the terrain is sloped and unlevel. Work will include restoration of existing trails including installation of crib steps\, and removal of invasive plants. Trail work will include moving materials (lumber\, beach boulders\, gravel\, logs)\, trail step construction\, trail drainage/water bars\, and brush clearing. The group campsite at Patricks Point State Park is located near the ocean\, tidepools\, and state park trails. The summer weather is moderate and enjoyable. \nCURRENT COVID TRAVEL RESTRICTIONS/REQUIREMENTS FOR STATE (Link) \n 
URL:https://americanhiking.org/volunteer-vacation-trip/california-coastal-national-monument-volunteer-vacations-2021/
LOCATION:California Coastal National Monument\, Trinidad CA\, 4150 Patricks Point Drive\, Trinidad\, CA\, 95570\, United States
ATTACH;FMTTYPE=image/jpeg:https://americanhiking.org/wp-content/uploads/2018/11/California-Coastal-National-Monument.jpg
END:VEVENT
BEGIN:VEVENT
DTSTART;VALUE=DATE:20200920
DTEND;VALUE=DATE:20200927
DTSTAMP:20260420T125411
CREATED:20191211T185726Z
LAST-MODIFIED:20200702T153809Z
UID:10000423-1600560000-1601164799@americanhiking.org
SUMMARY:California Coastal National Monument\, Trinidad CA
DESCRIPTION:Trip CANCELLED due to COVID-19: \n  \nVolunteers will work on two public trails to spectacular beaches along the Trinidad coastline in northern California\, where the redwoods meet the Pacific Ocean. These are amazing ocean front public use areas that highlight the California Coastal National Monument’s offshore rocks and islands\, coastal forests\, sand bluffs and shoreline tidepools. We will replace trail steps at the Luffenholtz Beach Park vista point trail. We will also work on trail steps at the nearby Old Home Beach public trail. These trails offer scenic vistas and access to surf fishing and tidepool exploring. Last year’s volunteers loved their experience here. Trail distances are less than one mile from trail head downhill to the beach\, but include moderately difficult hiking on unleveled terrain. Work will include replacement of existing trail steps\, installation of new crib steps\, trail clearing and removal of invasive plants. Trail work will also include manual moving of materials (lumber\, beach boulders\, gravel\, logs)\, trail step construction\, digging trail drainage / water bars\, and clearing brush and ivy. The nearby group campsite is at Patricks Point State Park and includes warm showers and flush-toilet restrooms. Our small ‘city’ of Trinidad is recognized as a CA Coastal National Monument Gateway Community for its scenic vistas and community support of coastal conservation. The nearby city of Arcata\, a college town home to Humboldt State University\, has a downtown plaza and many social events.
URL:https://americanhiking.org/volunteer-vacation-trip/california-coastal-national-monument-trinidad-ca/
LOCATION:California Coastal National Monument\, Trinidad CA\, 4150 Patricks Point Drive\, Trinidad\, CA\, 95570\, United States
CATEGORIES:Volunteer Vacations Trips
ATTACH;FMTTYPE=image/jpeg:https://americanhiking.org/wp-content/uploads/2018/11/California-Coastal-National-Monument.jpg
END:VEVENT
END:VCALENDAR