BEGIN:VCALENDAR
VERSION:2.0
PRODID:-//American Hiking Society - ECPv6.15.17//NONSGML v1.0//EN
CALSCALE:GREGORIAN
METHOD:PUBLISH
X-WR-CALNAME:American Hiking Society
X-ORIGINAL-URL:https://americanhiking.org
X-WR-CALDESC:Events for American Hiking Society
REFRESH-INTERVAL;VALUE=DURATION:PT1H
X-Robots-Tag:noindex
X-PUBLISHED-TTL:PT1H
BEGIN:VTIMEZONE
TZID:America/New_York
BEGIN:DAYLIGHT
TZOFFSETFROM:-0500
TZOFFSETTO:-0400
TZNAME:EDT
DTSTART:20180311T070000
END:DAYLIGHT
BEGIN:STANDARD
TZOFFSETFROM:-0400
TZOFFSETTO:-0500
TZNAME:EST
DTSTART:20181104T060000
END:STANDARD
BEGIN:DAYLIGHT
TZOFFSETFROM:-0500
TZOFFSETTO:-0400
TZNAME:EDT
DTSTART:20190310T070000
END:DAYLIGHT
BEGIN:STANDARD
TZOFFSETFROM:-0400
TZOFFSETTO:-0500
TZNAME:EST
DTSTART:20191103T060000
END:STANDARD
BEGIN:DAYLIGHT
TZOFFSETFROM:-0500
TZOFFSETTO:-0400
TZNAME:EDT
DTSTART:20200308T070000
END:DAYLIGHT
BEGIN:STANDARD
TZOFFSETFROM:-0400
TZOFFSETTO:-0500
TZNAME:EST
DTSTART:20201101T060000
END:STANDARD
END:VTIMEZONE
BEGIN:VEVENT
DTSTART;VALUE=DATE:20190324
DTEND;VALUE=DATE:20190331
DTSTAMP:20260423T145348
CREATED:20181116T192235Z
LAST-MODIFIED:20190708T201009Z
UID:10000325-1553385600-1553990399@americanhiking.org
SUMMARY:Coronado National Forest\, Arizona National Scenic Trail
DESCRIPTION:The Arizona National Scenic trail travels 800 miles across the state of Arizona between the Mexican border and Utah. It highlights the diversity of wild landscapes in Arizona from the iconic Sonoran desert to deep ponderosa forests. This project is taking place on the Coronado National Forest\, in the Canelo Hills of southern Arizona. The Canelo Hills West passage of the trail is the second passage north of the border and crosses low\, grassy hills between the Huachuca and Santa Rita Mountains from Parker Canyon Lake to Canelo Pass. Our project involves constructing new trail to replace legacy trail and forest roads that have been in this area for decades. One of the Arizona Trail Association’s main goals in recent years has been to get the trail off of old roads and two track wherever possible\, and (pending clearances) this area holds a great opportunity to move on that goal. Tasks include clearing vegetation\, benching and digging trail tread\, small rock work projects and removing debris. The hike to and from the worksite will be between 3 and 5 miles each day over rolling hills.
URL:https://americanhiking.org/volunteer-vacation-trip/coronado-national-forest-arizona-national-scenic-trail/
LOCATION:Coronado National Forest\, Arizona National Scenic Trail\, 3252 Hwy 82\, Sonoita\, AZ\, 85637\, United States
CATEGORIES:Volunteer Vacations Trips
ATTACH;FMTTYPE=image/jpeg:https://americanhiking.org/wp-content/uploads/2018/11/Coronado-National-Forest.jpg
END:VEVENT
END:VCALENDAR