BEGIN:VCALENDAR
VERSION:2.0
PRODID:-//American Hiking Society - ECPv6.15.17//NONSGML v1.0//EN
CALSCALE:GREGORIAN
METHOD:PUBLISH
X-WR-CALNAME:American Hiking Society
X-ORIGINAL-URL:https://americanhiking.org
X-WR-CALDESC:Events for American Hiking Society
REFRESH-INTERVAL;VALUE=DURATION:PT1H
X-Robots-Tag:noindex
X-PUBLISHED-TTL:PT1H
BEGIN:VTIMEZONE
TZID:America/New_York
BEGIN:DAYLIGHT
TZOFFSETFROM:-0500
TZOFFSETTO:-0400
TZNAME:EDT
DTSTART:20220313T070000
END:DAYLIGHT
BEGIN:STANDARD
TZOFFSETFROM:-0400
TZOFFSETTO:-0500
TZNAME:EST
DTSTART:20221106T060000
END:STANDARD
BEGIN:DAYLIGHT
TZOFFSETFROM:-0500
TZOFFSETTO:-0400
TZNAME:EDT
DTSTART:20230312T070000
END:DAYLIGHT
BEGIN:STANDARD
TZOFFSETFROM:-0400
TZOFFSETTO:-0500
TZNAME:EST
DTSTART:20231105T060000
END:STANDARD
BEGIN:DAYLIGHT
TZOFFSETFROM:-0500
TZOFFSETTO:-0400
TZNAME:EDT
DTSTART:20240310T070000
END:DAYLIGHT
BEGIN:STANDARD
TZOFFSETFROM:-0400
TZOFFSETTO:-0500
TZNAME:EST
DTSTART:20241103T060000
END:STANDARD
END:VTIMEZONE
BEGIN:VEVENT
DTSTART;TZID=America/New_York:20230820T170000
DTEND;TZID=America/New_York:20230826T100000
DTSTAMP:20260421T151018
CREATED:20221116T211440Z
LAST-MODIFIED:20221219T194022Z
UID:10000426-1692550800-1693044000@americanhiking.org
SUMMARY:Five Springs Falls Campground\, WY - Volunteer Vacations 2023
DESCRIPTION:Help maintain trails at Five Springs Falls Campground\, which provides an excellent opportunity for camping\, hiking\, picnicking\, and sightseeing! The elevation ranges from 6\,520 feet at the campground to 7\,240 feet at the forest boundary. This area offers breathtaking views of northern Bighorn Basin with a panoramic view of the Bighorn\, Pryor\, and Absaroka Mountains. Wildlife in the area include: deer\, elk\, moose\, black bear\, and mountain lion. \nProject work will comprise of the maintaining the two trails located at the campground\, the lower loop trail and the upper access trail. The Five Springs Falls Campground lower loop trail is a heavily used .30 mile trail that provides access to the Five Springs lower falls observation point. Because this trail it so heavily used there are numerous areas that need attention and repair. Work on this short trail would include fixing cribbing walls\, slough and berm work\, water bar installation\, and minor vegetation clearing. This trial also has a small 20 foot boardwalk over a riparian area that needs repair.   \nThe Five Spring Falls Campground upper trail is a key access trail that provides access to the Bighorn National Forest. This trail was once the old historic US 14A highway that was used to connected Lovell to Sheridan Wyoming. The first mile of this trail is on BLM before entering into the Bighorn Forest. Work will include vegetation clearing\, trail defining\, and signage installation.   \nThere is no experience needed to join a Volunteer Vacation! Your expert hosts will provide detailed instruction\, tool demonstrations\, and project oversight throughout the week. All you need is a willing attitude and to be in good physical condition to participate in moderate physical activity for approximately 6-8 hours a day with plenty of breaks\, at your own pace. Find out more about what it’s like to join a Volunteer Vacation and other frequently asked questions here. \nAHS acknowledges with gratitude that this project takes place on the traditional lands of the Cayuse\, Umatilla and Walla Walla\, Apsáalooke (Crow)\, Tséstho’e (Cheyenne) and Očhéthi Šakówiŋ peoples past and present. We honor the land itself\, the Indigenous communities who have stewarded this land for generations\, their deep and sacred connection to these lands\, and those who continue to steward these lands today. We offer this land acknowledgement as the first of many steps to stand as an ally and amplify Indigenous voices. We invite the American Hiking Society community to join us through continued efforts to support Indigenous communities and learn more about the history of the lands on which we live\, work and recreate.
URL:https://americanhiking.org/volunteer-vacation-trip/five-springs-falls-campground-wy-volunteer-vacations-2023/
LOCATION:Five Springs Falls Campground\, 1002 Blackburn Street\, Cody\, WY\, 82414\, United States
ATTACH;FMTTYPE=image/jpeg:https://americanhiking.org/wp-content/uploads/2022/11/thumbnail-pxl-20220615-193020668.jpg
END:VEVENT
END:VCALENDAR