BEGIN:VCALENDAR
VERSION:2.0
PRODID:-//American Hiking Society - ECPv6.15.17//NONSGML v1.0//EN
CALSCALE:GREGORIAN
METHOD:PUBLISH
X-WR-CALNAME:American Hiking Society
X-ORIGINAL-URL:https://americanhiking.org
X-WR-CALDESC:Events for American Hiking Society
REFRESH-INTERVAL;VALUE=DURATION:PT1H
X-Robots-Tag:noindex
X-PUBLISHED-TTL:PT1H
BEGIN:VTIMEZONE
TZID:America/New_York
BEGIN:DAYLIGHT
TZOFFSETFROM:-0500
TZOFFSETTO:-0400
TZNAME:EDT
DTSTART:20250309T070000
END:DAYLIGHT
BEGIN:STANDARD
TZOFFSETFROM:-0400
TZOFFSETTO:-0500
TZNAME:EST
DTSTART:20251102T060000
END:STANDARD
BEGIN:DAYLIGHT
TZOFFSETFROM:-0500
TZOFFSETTO:-0400
TZNAME:EDT
DTSTART:20260308T070000
END:DAYLIGHT
BEGIN:STANDARD
TZOFFSETFROM:-0400
TZOFFSETTO:-0500
TZNAME:EST
DTSTART:20261101T060000
END:STANDARD
BEGIN:DAYLIGHT
TZOFFSETFROM:-0500
TZOFFSETTO:-0400
TZNAME:EDT
DTSTART:20270314T070000
END:DAYLIGHT
BEGIN:STANDARD
TZOFFSETFROM:-0400
TZOFFSETTO:-0500
TZNAME:EST
DTSTART:20271107T060000
END:STANDARD
END:VTIMEZONE
BEGIN:VEVENT
DTSTART;VALUE=DATE:20260405
DTEND;VALUE=DATE:20260412
DTSTAMP:20260420T180335
CREATED:20251212T195726Z
LAST-MODIFIED:20260209T185303Z
UID:10000639-1775347200-1775951999@americanhiking.org
SUMMARY:Returning Favorite- Backpacker's Dream on Northern CA Coast
DESCRIPTION:Combine a pre-planned backpacking trip with trail cleanup! \nHike 2 miles to basecamp and then hike 2-6 miles roundtrip daily while working on the trail. \nThe King Range National Conservation Area has over 85 miles of wilderness hiking trails and 25 miles of mountain bike trails. Rolling hills of wildflowers\, hundreds of elephant seals\, and thrilling creek crossings are notable highlights of a springtime visit. \nVolunteers will help remove overgrown brush and repair trail tread along the King Crest Trail. This 11-mile National Recreation Trail follows the spine of the King Range and highlights various ecosystems\, from old growth forest to ridgetop chaparral\, with 360 degree views of California’s Lost Coast\, the Mattole and Eel River Valleys\, and surrounding mountains. Our primary work site is within the shadow of King Peak\, the tallest mountain in the King Range NCA at 4\,088 ft. This post-fire\, coastal landscape experiences fast regrowth and requires consistent maintenance to provide epic opportunities for day-hikers\, backpackers\, and equestrian users. Depending on marine conditions\, the group will hike out on Thursday down to the coast at Buck Creek (8 miles\, +500 – 3200 ft elevation)\, and Friday’s hike out will be along the Lost Coast Trail (5.5 miles\, no elevation change). These details may change depending on the marine forecast and the group’s desire/ability. \nThere is no experience needed to join a Volunteer Vacation! Your expert hosts will provide detailed instruction\, tool demonstrations\, and project oversight throughout the week. All you need is a willing attitude and to be in good physical condition to participate in moderate physical activity for approximately 6-8 hours a day with plenty of breaks\, at your own pace. Find out more about what it’s like to join a Volunteer Vacation and other frequently asked questions here. \nAvg. Temperature: \nTypical weather for this area during this season has highs of about 55–60°F and lows of 42–48°F. Early April on the northern California coast is cool and often cloudy\, with light rain\, drizzle\, or coastal fog fairly common. \nLand Acknowledgment: \nAHS acknowledges with gratitude that this project takes place on the traditional lands of the Sinkyone people past and present. We honor the land itself\, the Indigenous communities who have stewarded these islands and mountain landscapes for countless generations\, and those who continue this stewardship today. This acknowledgement is one step in our ongoing commitment to uplift Indigenous voices. We invite the American Hiking Society community to learn about\, support\, and stand in solidarity with the Indigenous peoples whose lands we live\, work\, and recreate on.
URL:https://americanhiking.org/volunteer-vacation-trip/returning-favorite-backpackers-dream-on-northern-ca-coast/
LOCATION:King Range National Conservation Area\, 768 Shelter Cove Road\, Whitethorn\, CA\, 95589\, United States
ATTACH;FMTTYPE=image/jpeg:https://americanhiking.org/wp-content/uploads/2025/12/img-0253.jpg
END:VEVENT
END:VCALENDAR