BEGIN:VCALENDAR
VERSION:2.0
PRODID:-//American Hiking Society - ECPv6.15.17//NONSGML v1.0//EN
CALSCALE:GREGORIAN
METHOD:PUBLISH
X-WR-CALNAME:American Hiking Society
X-ORIGINAL-URL:https://americanhiking.org
X-WR-CALDESC:Events for American Hiking Society
REFRESH-INTERVAL;VALUE=DURATION:PT1H
X-Robots-Tag:noindex
X-PUBLISHED-TTL:PT1H
BEGIN:VTIMEZONE
TZID:America/New_York
BEGIN:DAYLIGHT
TZOFFSETFROM:-0500
TZOFFSETTO:-0400
TZNAME:EDT
DTSTART:20210314T070000
END:DAYLIGHT
BEGIN:STANDARD
TZOFFSETFROM:-0400
TZOFFSETTO:-0500
TZNAME:EST
DTSTART:20211107T060000
END:STANDARD
BEGIN:DAYLIGHT
TZOFFSETFROM:-0500
TZOFFSETTO:-0400
TZNAME:EDT
DTSTART:20220313T070000
END:DAYLIGHT
BEGIN:STANDARD
TZOFFSETFROM:-0400
TZOFFSETTO:-0500
TZNAME:EST
DTSTART:20221106T060000
END:STANDARD
BEGIN:DAYLIGHT
TZOFFSETFROM:-0500
TZOFFSETTO:-0400
TZNAME:EDT
DTSTART:20230312T070000
END:DAYLIGHT
BEGIN:STANDARD
TZOFFSETFROM:-0400
TZOFFSETTO:-0500
TZNAME:EST
DTSTART:20231105T060000
END:STANDARD
END:VTIMEZONE
BEGIN:VEVENT
DTSTART;VALUE=DATE:20220612
DTEND;VALUE=DATE:20220619
DTSTAMP:20260421T143723
CREATED:20211201T170749Z
LAST-MODIFIED:20220104T183008Z
UID:10000498-1654992000-1655596799@americanhiking.org
SUMMARY:Marais des Cygnes National Wildlife Refuge\, Kansas - Volunteer Vacations 2022
DESCRIPTION:Marais des Cygnes National Wildlife Refuge is one in a system of over 550 refuges administered by the U.S. Fish and Wildlife Service and dedicated to the preservation and conservation of wildlife. The Refuge is named after the Marais des Cygnes River which runs through the middle of the refuge and is the dominant natural feature of the region. The name\, Marais des Cygnes\, comes from the French language and means Marsh of the Swans. It is presumed that trumpeter swans\, which were historically common in the Midwest\, used the wetlands adjacent to the Marais des Cygnes River during spring and fall migration. \nThe Marais des Cygnes National Wildlife Refuge contains 5 trails that are available for public use. The Mosaic Trail resides within the south-eastern portion of the refuge and was originally designed as a loop trail (1.2 miles). Previous management efforts had been made to re-design it; however\, this effort was not completed\, and the trail has been neglected for several years. In the scope of this project\, the crew will work on rehabilitating the trail and re-constructing trail pathway boundaries and bridges. This work may include\, but is not limited to; limbing\, string trimming\, leveling\, hauling and distribution of gravel\, and hammering/drilling. Nearby resides a fishing access area that has suffered extreme erosion and damage. In this access area\, there is a metal staircase that has fallen onto the shoreline and the access route has now become hazardous for visitors and staff. In the scope of this project\, the crew will work to remove these hazardous structures and will reconstruct the trail and a new staircase to allow access to the Marais des Cygnes River for recreational shoreline fishing. \nAHS acknowledges with gratitude that this project takes place on the traditional lands of the ?????? ???? ???? ??^??^(Osage)\, Očhéthi Šakówiŋ\, Kiikaapoi (Kickapoo) and Kaskaskia peoples past and present. We honor the land itself\, the Indigenous communities who have stewarded this land for generations\, and those who continue to steward these lands today. AHS invites all volunteers to join us in our commitment to support and amplify the work of Indigenous communities as they work to dismantle the systems of oppression that these communities continue to face today.
URL:https://americanhiking.org/volunteer-vacation-trip/marais-des-cygnes-national-wildlife-refuge-volunteer-vacations-2022/
LOCATION:Marais des Cygnes National Wildlife Refuge\, 24141 Kansas Highway 52\, Pleasanton\, KS\, 66075\, United States
ATTACH;FMTTYPE=image/jpeg:https://americanhiking.org/wp-content/uploads/2021/12/mdc-deer.jpg
END:VEVENT
END:VCALENDAR