BEGIN:VCALENDAR
VERSION:2.0
PRODID:-//American Hiking Society - ECPv6.15.17//NONSGML v1.0//EN
CALSCALE:GREGORIAN
METHOD:PUBLISH
X-WR-CALNAME:American Hiking Society
X-ORIGINAL-URL:https://americanhiking.org
X-WR-CALDESC:Events for American Hiking Society
REFRESH-INTERVAL;VALUE=DURATION:PT1H
X-Robots-Tag:noindex
X-PUBLISHED-TTL:PT1H
BEGIN:VTIMEZONE
TZID:America/New_York
BEGIN:DAYLIGHT
TZOFFSETFROM:-0500
TZOFFSETTO:-0400
TZNAME:EDT
DTSTART:20190310T070000
END:DAYLIGHT
BEGIN:STANDARD
TZOFFSETFROM:-0400
TZOFFSETTO:-0500
TZNAME:EST
DTSTART:20191103T060000
END:STANDARD
BEGIN:DAYLIGHT
TZOFFSETFROM:-0500
TZOFFSETTO:-0400
TZNAME:EDT
DTSTART:20200308T070000
END:DAYLIGHT
BEGIN:STANDARD
TZOFFSETFROM:-0400
TZOFFSETTO:-0500
TZNAME:EST
DTSTART:20201101T060000
END:STANDARD
BEGIN:DAYLIGHT
TZOFFSETFROM:-0500
TZOFFSETTO:-0400
TZNAME:EDT
DTSTART:20210314T070000
END:DAYLIGHT
BEGIN:STANDARD
TZOFFSETFROM:-0400
TZOFFSETTO:-0500
TZNAME:EST
DTSTART:20211107T060000
END:STANDARD
BEGIN:DAYLIGHT
TZOFFSETFROM:-0500
TZOFFSETTO:-0400
TZNAME:EDT
DTSTART:20220313T070000
END:DAYLIGHT
BEGIN:STANDARD
TZOFFSETFROM:-0400
TZOFFSETTO:-0500
TZNAME:EST
DTSTART:20221106T060000
END:STANDARD
END:VTIMEZONE
BEGIN:VEVENT
DTSTART;VALUE=DATE:20210801
DTEND;VALUE=DATE:20210808
DTSTAMP:20260422T161351
CREATED:20210317T192415Z
LAST-MODIFIED:20210610T213509Z
UID:10000476-1627776000-1628380799@americanhiking.org
SUMMARY:Mount Mitchell State Park - Volunteer Vacations 2021
DESCRIPTION:Volunteers will be rehabilitating the most popular trails in the park. The Balsam Nature Trail is near the summit of the highest peak East of the Mississippi. Volunteers will perform tread work including side-hilling\, building new steps and waterbars and other water diversion structures. Some rock work will be involved. Tools will be provided including hazel hoes\, Pulaskis\, rock tools\, etc. We will also provide safety equipment and detailed instruction in the safe use of these tools. Volunteers will enjoy camping and working at high elevation not far from the summit of Mount Mitchell. \nCURRENT COVID TRAVEL RESTRICTIONS/REQUIREMENTS FOR STATE (Link)
URL:https://americanhiking.org/volunteer-vacation-trip/mount-mitchell-state-park-volunteer-vacations-2021-2/
LOCATION:Mount Mitchell State Park\, 2388 NC 128\, Burnsville\, NC\, 28714\, United States
CATEGORIES:Volunteer Vacations Trips
ATTACH;FMTTYPE=image/jpeg:https://americanhiking.org/wp-content/uploads/2019/12/Mount-Mitchell-1.jpg
END:VEVENT
BEGIN:VEVENT
DTSTART;VALUE=DATE:20200816
DTEND;VALUE=DATE:20200823
DTSTAMP:20260422T161351
CREATED:20191211T185733Z
LAST-MODIFIED:20200609T212156Z
UID:10000442-1597536000-1598140799@americanhiking.org
SUMMARY:Mount Mitchell State Park
DESCRIPTION:TRIP CANCELLED DUE TO COVID-19: \nVolunteers will be rehabilitating one of the most popular trails in the park. The Old Mount Mitchell Trail leads to the summit of the highest peak East of the Mississippi. Volunteers will perform tread work including side-hilling\, building new steps and waterbars and other water diversion structures. Some rock work will be involved. Tools will be provided including hazel hoes\, Pulaskis\, rock tools\, etc. We will also provide safety equipment and detailed instruction in the safe use of these tools. Volunteers will enjoy camping and working at high elevation not far from the summit of Mount Mitchell.
URL:https://americanhiking.org/volunteer-vacation-trip/mount-mitchell-state-park/
LOCATION:Mount Mitchell State Park\, 2388 NC 128\, Burnsville\, NC\, 28714\, United States
CATEGORIES:Volunteer Vacations Trips
ATTACH;FMTTYPE=image/jpeg:https://americanhiking.org/wp-content/uploads/2019/12/Mount-Mitchell.jpg
END:VEVENT
END:VCALENDAR