BEGIN:VCALENDAR
VERSION:2.0
PRODID:-//American Hiking Society - ECPv6.15.17//NONSGML v1.0//EN
CALSCALE:GREGORIAN
METHOD:PUBLISH
X-WR-CALNAME:American Hiking Society
X-ORIGINAL-URL:https://americanhiking.org
X-WR-CALDESC:Events for American Hiking Society
REFRESH-INTERVAL;VALUE=DURATION:PT1H
X-Robots-Tag:noindex
X-PUBLISHED-TTL:PT1H
BEGIN:VTIMEZONE
TZID:America/New_York
BEGIN:DAYLIGHT
TZOFFSETFROM:-0500
TZOFFSETTO:-0400
TZNAME:EDT
DTSTART:20240310T070000
END:DAYLIGHT
BEGIN:STANDARD
TZOFFSETFROM:-0400
TZOFFSETTO:-0500
TZNAME:EST
DTSTART:20241103T060000
END:STANDARD
BEGIN:DAYLIGHT
TZOFFSETFROM:-0500
TZOFFSETTO:-0400
TZNAME:EDT
DTSTART:20250309T070000
END:DAYLIGHT
BEGIN:STANDARD
TZOFFSETFROM:-0400
TZOFFSETTO:-0500
TZNAME:EST
DTSTART:20251102T060000
END:STANDARD
BEGIN:DAYLIGHT
TZOFFSETFROM:-0500
TZOFFSETTO:-0400
TZNAME:EDT
DTSTART:20260308T070000
END:DAYLIGHT
BEGIN:STANDARD
TZOFFSETFROM:-0400
TZOFFSETTO:-0500
TZNAME:EST
DTSTART:20261101T060000
END:STANDARD
BEGIN:DAYLIGHT
TZOFFSETFROM:-0500
TZOFFSETTO:-0400
TZNAME:EDT
DTSTART:20270314T070000
END:DAYLIGHT
BEGIN:STANDARD
TZOFFSETFROM:-0400
TZOFFSETTO:-0500
TZNAME:EST
DTSTART:20271107T060000
END:STANDARD
END:VTIMEZONE
BEGIN:VEVENT
DTSTART;VALUE=DATE:20260404
DTEND;VALUE=DATE:20260413
DTSTAMP:20260420T182155
CREATED:20260121T213418Z
LAST-MODIFIED:20260223T181044Z
UID:10000684-1775260800-1776038399@americanhiking.org
SUMMARY:Waterfall Trail and Chef Prepared Meals in North Carolina Resort Town\, NC (Week 2!)- Back by Popular Demand
DESCRIPTION:Join Southern Blue Ridge Hikers in beautiful North Carolina to help restore the Chattooga River Trail in the Nantahala National Forest! Enjoy the modern comforts of staying in a recently restored lodge with wifi\, chef prepared meals\, and walking access to the quaint nearby town and local attractions. In your downtime\, volunteers will have time to take a Biological Station Tour\, hike in the nearby National Forest\, and spend every evening gathered around the fireplace in the lodge. \nThe trail work will consist of rebenching the tread (cutting the trail into the hillside) with hand tools. \nThere is no experience needed to join a Volunteer Vacation! Your expert hosts will provide detailed instruction\, tool demonstrations\, and project oversight throughout the week. All you need is a willing attitude and to be in good physical condition to participate in moderate physical activity for approximately 6-8 hours a day with plenty of breaks\, at your own pace. Find out more about what it’s like to join a Volunteer Vacation and other frequently asked questions here. \nSample Schedule:  \nDay 1: Arrival \nTypically meet in the afternoon for check in\, introductions\, orientation\, and camp setup. (Time/place TBD) \nDay 2: Work Day \nEnjoy a hearty breakfast\, pack lunches\, and be on the trail between 8 AM and 9 AM \nLunch and plenty of other breaks will be included. \nWrap up the work day in the late afternoon and head back to camp and enjoy a few hours of daylight for free time. \nReconvene at a chosen time for dinner. \nAfter dinner has been cleaned up\, evenings offer plenty of  time to relax\, sit around the campfire and get to know your fellow crew members\, or enjoy more free time. \nDay 3: Work Day \nDay 4: Rest Day (Specific Day on Trip Will Be Confirmed By Host) \nYour choice! Explore the area\, take a recreational hike\,  tour local attractions\, or hang out at camp. Group excursions can be planned or set-out on your own. \nDay 5: Work Day \nDay 6: Work Day \nDay 7: Departure \nPack up and clean up\, celebrate your accomplishments\, wish each other a fond farewell\, and depart. Please note: This schedule is subject to change due to weather or other circumstances. Any updates will be communicated to the group.
URL:https://americanhiking.org/volunteer-vacation-trip/waterfall-trail-and-chef-prepared-meals-in-north-carolina-resort-town-nc-week-2-back-by-popular-demand/
LOCATION:Nantahala National Forest\, 4518 Horse Cove Road\, Highlands\, NC\, 28741\, United States
ATTACH;FMTTYPE=image/jpeg:https://americanhiking.org/wp-content/uploads/2026/01/e946ed62-fdd9-46d2-8107-8164e5accab5-1.jpg
END:VEVENT
BEGIN:VEVENT
DTSTART;VALUE=DATE:20260322
DTEND;VALUE=DATE:20260329
DTSTAMP:20260420T182155
CREATED:20251212T194910Z
LAST-MODIFIED:20260204T180451Z
UID:10000638-1774137600-1774742399@americanhiking.org
SUMMARY:Waterfall Trail and Chef Prepared Meals in North Carolina Resort Town\, NC- Back by Popular Demand
DESCRIPTION:Join Southern Blue Ridge Hikers in beautiful North Carolina to help restore the Chattooga River Trail in the Nantahala National Forest! Enjoy the modern comforts of staying in a recently restored lodge with wifi\, chef prepared meals\, and walking access to the quaint nearby town and local attractions. In your downtime\, volunteers will have time to take a Biological Station Tour\, hike in the nearby National Forest\, and spend every evening gathered around the fireplace in the lodge. \nThe trail work will consist of rebenching the tread (cutting the trail into the hillside) with hand tools. \nThere is no experience needed to join a Volunteer Vacation! Your expert hosts will provide detailed instruction\, tool demonstrations\, and project oversight throughout the week. All you need is a willing attitude and to be in good physical condition to participate in moderate physical activity for approximately 6-8 hours a day with plenty of breaks\, at your own pace. Find out more about what it’s like to join a Volunteer Vacation and other frequently asked questions here. \nSample Schedule:  \nDay 1: Arrival \nTypically meet in the afternoon for check in\, introductions\, orientation\, and camp setup. (Time/place TBD) \nDay 2: Work Day \nEnjoy a hearty breakfast\, pack lunches\, and be on the trail between 8 AM and 9 AM \nLunch and plenty of other breaks will be included. \nWrap up the work day in the late afternoon and head back to camp and enjoy a few hours of daylight for free time. \nReconvene at a chosen time for dinner. \nAfter dinner has been cleaned up\, evenings offer plenty of  time to relax\, sit around the campfire and get to know your fellow crew members\, or enjoy more free time. \nDay 3: Work Day \nDay 4: Rest Day (Specific Day on Trip Will Be Confirmed By Host) \nYour choice! Explore the area\, take a recreational hike\,  tour local attractions\, or hang out at camp. Group excursions can be planned or set-out on your own. \nDay 5: Work Day \nDay 6: Work Day \nDay 7: Departure \nPack up and clean up\, celebrate your accomplishments\, wish each other a fond farewell\, and depart. Please note: This schedule is subject to change due to weather or other circumstances. Any updates will be communicated to the group.
URL:https://americanhiking.org/volunteer-vacation-trip/waterfall-trail-and-chef-prepared-meals-in-north-carolina-resort-town-nc-back-by-popular-demand/
LOCATION:Nantahala National Forest\, 4518 Horse Cove Road\, Highlands\, NC\, 28741\, United States
ATTACH;FMTTYPE=image/jpeg:https://americanhiking.org/wp-content/uploads/2025/12/nantahala-5.jpg
END:VEVENT
BEGIN:VEVENT
DTSTART;TZID=America/New_York:20250322T150000
DTEND;TZID=America/New_York:20250330T080000
DTSTAMP:20260420T182155
CREATED:20241129T064826Z
LAST-MODIFIED:20241213T190133Z
UID:10000599-1742655600-1743321600@americanhiking.org
SUMMARY:Waterfall Trail and Chef Prepared Meals in North Carolina Resort Town
DESCRIPTION:Join Southern Blue Ridge Hikers in beautiful North Carolina to help restore a short\, popular trail to a beautiful waterfall in the Nantahala National Forest! Enjoy the modern comforts of staying in a recently restored lodge with wifi\, chef prepared meals (including hot lunch on the trail!)\, and walking access to the quaint nearby town and local attractions. In your downtime\, volunteers will have time to take a Biological Station Tour\, hike in the nearby National Forest\, and spend every evening gathered around the fireplace in the lodge. \nThe trail work will consist of rebenching the tread (cutting the trail into the hillside) on the Glen Falls Trail with hand tools where several sections of the tread have failed due to tread creep (sideways movement off the intended path). \nThere is no experience needed to join a Volunteer Vacation! Your expert hosts will provide detailed instruction\, tool demonstrations\, and project oversight throughout the week. All you need is a willing attitude and to be in good physical condition to participate in moderate physical activity for approximately 6-8 hours a day with plenty of breaks\, at your own pace. Find out more about what it’s like to join a Volunteer Vacation and other frequently asked questions here.
URL:https://americanhiking.org/volunteer-vacation-trip/nantahala-national-forest-nc-volunteer-vacations-2025/
LOCATION:Nantahala National Forest\, 4518 Horse Cove Road\, Highlands\, NC\, 28741\, United States
ATTACH;FMTTYPE=image/jpeg:https://americanhiking.org/wp-content/uploads/2024/11/ae523bb0-4482-44ce-98fc-79a6955f16ca-002.jpeg
END:VEVENT
END:VCALENDAR