BEGIN:VCALENDAR
VERSION:2.0
PRODID:-//American Hiking Society - ECPv6.15.17//NONSGML v1.0//EN
CALSCALE:GREGORIAN
METHOD:PUBLISH
X-ORIGINAL-URL:https://americanhiking.org
X-WR-CALDESC:Events for American Hiking Society
REFRESH-INTERVAL;VALUE=DURATION:PT1H
X-Robots-Tag:noindex
X-PUBLISHED-TTL:PT1H
BEGIN:VTIMEZONE
TZID:America/New_York
BEGIN:DAYLIGHT
TZOFFSETFROM:-0500
TZOFFSETTO:-0400
TZNAME:EDT
DTSTART:20190310T070000
END:DAYLIGHT
BEGIN:STANDARD
TZOFFSETFROM:-0400
TZOFFSETTO:-0500
TZNAME:EST
DTSTART:20191103T060000
END:STANDARD
BEGIN:DAYLIGHT
TZOFFSETFROM:-0500
TZOFFSETTO:-0400
TZNAME:EDT
DTSTART:20200308T070000
END:DAYLIGHT
BEGIN:STANDARD
TZOFFSETFROM:-0400
TZOFFSETTO:-0500
TZNAME:EST
DTSTART:20201101T060000
END:STANDARD
BEGIN:DAYLIGHT
TZOFFSETFROM:-0500
TZOFFSETTO:-0400
TZNAME:EDT
DTSTART:20210314T070000
END:DAYLIGHT
BEGIN:STANDARD
TZOFFSETFROM:-0400
TZOFFSETTO:-0500
TZNAME:EST
DTSTART:20211107T060000
END:STANDARD
END:VTIMEZONE
BEGIN:VEVENT
DTSTART;VALUE=DATE:20200610
DTEND;VALUE=DATE:20200617
DTSTAMP:20260424T163052
CREATED:20191211T185736Z
LAST-MODIFIED:20200423T175901Z
UID:10000450-1591747200-1592351999@americanhiking.org
SUMMARY:Salmon Challis National Forest
DESCRIPTION:CANCELLED DUE TO COVID-19: \nThere are multiple trails that leave from the Historic Loon Creek Guard Station\, where the volunteers will be housed\, that lead to Wilderness. Because motorized/mechanized equipment is not allowed in designated Wilderness areas\, the Forest Service clears downed trees that have fallen across the trail with cross cut saws. Volunteers will receive training in the use and care of our 100 year old saws to be able to safely clear trail. There is light trail maintenance that we will be working on as well\, such as water drainage dips and some light brushing. \nBecause of the logistical challenges here on the Salmon-Challis the AHS workweek Will NOT BE the standard “Monday through Friday” but instead will be a Wednesday through Tuesday one. We will meet at the Challis office on Wednesday\, June 10 at 1pm. We will make sure everyone’s got what they need for the week then travel three hours to the Guard Station. Work will begin the following morning at 7am for an 8hr day\, with a half hour lunch break. The following day\, Friday\, will be similar. Saturday will be a free day where volunteers can explore the hot springs nearby or there are excellent fishing and hiking opportunities or great places to just set up a hammock and read. Our next two work days will be Sunday and Monday then we will pack up and drive out on Tuesday morning. We will cut our way up the “Pioneer” and “Trail” trails then hike back to the Guard Station at the end of the day. As we cut we will progressively get farther into the wilderness each day\, or we can move on to another trail to provide for shorter hikes\, depending on the aspirations of the group.
URL:https://americanhiking.org/volunteer-vacation-trip/salmon-challis-national-forest/
LOCATION:Salmon Challis National Forest\, 311 US Highway 93\, Challis\, ID\, 83226\, United States
CATEGORIES:Volunteer Vacations Trips
ATTACH;FMTTYPE=image/jpeg:https://americanhiking.org/wp-content/uploads/2019/12/Upper-Loon-Creek.jpg
END:VEVENT
END:VCALENDAR