BEGIN:VCALENDAR
VERSION:2.0
PRODID:-//American Hiking Society - ECPv6.15.17//NONSGML v1.0//EN
CALSCALE:GREGORIAN
METHOD:PUBLISH
X-WR-CALNAME:American Hiking Society
X-ORIGINAL-URL:https://americanhiking.org
X-WR-CALDESC:Events for American Hiking Society
REFRESH-INTERVAL;VALUE=DURATION:PT1H
X-Robots-Tag:noindex
X-PUBLISHED-TTL:PT1H
BEGIN:VTIMEZONE
TZID:America/New_York
BEGIN:DAYLIGHT
TZOFFSETFROM:-0500
TZOFFSETTO:-0400
TZNAME:EDT
DTSTART:20200308T070000
END:DAYLIGHT
BEGIN:STANDARD
TZOFFSETFROM:-0400
TZOFFSETTO:-0500
TZNAME:EST
DTSTART:20201101T060000
END:STANDARD
BEGIN:DAYLIGHT
TZOFFSETFROM:-0500
TZOFFSETTO:-0400
TZNAME:EDT
DTSTART:20210314T070000
END:DAYLIGHT
BEGIN:STANDARD
TZOFFSETFROM:-0400
TZOFFSETTO:-0500
TZNAME:EST
DTSTART:20211107T060000
END:STANDARD
BEGIN:DAYLIGHT
TZOFFSETFROM:-0500
TZOFFSETTO:-0400
TZNAME:EDT
DTSTART:20220313T070000
END:DAYLIGHT
BEGIN:STANDARD
TZOFFSETFROM:-0400
TZOFFSETTO:-0500
TZNAME:EST
DTSTART:20221106T060000
END:STANDARD
END:VTIMEZONE
BEGIN:VEVENT
DTSTART;VALUE=DATE:20210724
DTEND;VALUE=DATE:20210802
DTSTAMP:20260424T192612
CREATED:20210317T171701Z
LAST-MODIFIED:20210426T133439Z
UID:10000475-1627084800-1627862399@americanhiking.org
SUMMARY:Wallowa-Whitman National Forest - Volunteer Vacations 2021
DESCRIPTION:Join our 2021 trip as we head for the spectacular Maxwell Lake nested high in the Eagle Cap Wilderness. We’ll depart the Maxwell Lake Trailhead along the Lostine Wild and Scenic River and backpack into the basin that holds this alpine gem. Pack stock will carry all food and group gear\, giving us time for a 4-mile hike into base camp. The trail provides spectacular views of the Lostine River drainage and Hurricane Divide to the east. As the trail ascends towards the lake views of the Eagle Cap Peak can be seen to the south-east. Our camp for the week is located just below Maxwell Lake. We’ll be located just off-trail nestled in a high alpine meadow between the towering spires of Flagstaff Point and Elkhorn Peak. Views abound from this incredibly scenic location! Work will include restoration of rehabilitating camp sites and user created trails around the lake\, the rehabilitation of an old search and rescue helicopter landing zone (includes piling and potential burning of old cut trees and stumps) and trail maintenance (building check dams\, drain dips\, water bars; brushing; possible light log-out). \nCURRENT COVID TRAVEL RESTRICTIONS/REQUIREMENTS FOR STATE (Link)
URL:https://americanhiking.org/volunteer-vacation-trip/wallowa-whitman-national-forest-volunteer-vacations-2021/
LOCATION:Wallowa-Whitman National Forest\, 88401 Hwy. 82\, Enterpise\, OR\, 97828\, United States
ATTACH;FMTTYPE=image/jpeg:https://americanhiking.org/wp-content/uploads/2017/12/Wallowa-Whitman-National-Forest-Oregon-4.jpg
END:VEVENT
END:VCALENDAR